BEGIN:VCALENDAR
VERSION:2.0
PRODID:-//Dandelionz - ECPv6.15.20//NONSGML v1.0//EN
CALSCALE:GREGORIAN
METHOD:PUBLISH
X-WR-CALNAME:Dandelionz
X-ORIGINAL-URL:https://dandelionzbd.com
X-WR-CALDESC:Events for Dandelionz
REFRESH-INTERVAL;VALUE=DURATION:PT1H
X-Robots-Tag:noindex
X-PUBLISHED-TTL:PT1H
BEGIN:VTIMEZONE
TZID:Asia/Dhaka
BEGIN:STANDARD
TZOFFSETFROM:+0600
TZOFFSETTO:+0600
TZNAME:+06
DTSTART:20230101T000000
END:STANDARD
END:VTIMEZONE
BEGIN:VEVENT
DTSTART;TZID=Asia/Dhaka:20240210T153000
DTEND;TZID=Asia/Dhaka:20240210T173000
DTSTAMP:20260421T204739
CREATED:20250723T122532Z
LAST-MODIFIED:20250818T044103Z
UID:2455-1707579000-1707586200@dandelionzbd.com
SUMMARY:Age-Appropriate strategies for optimal oral hygiene
DESCRIPTION:Speakers:  \nDr. Mausumi Iqbal \nConsultant in Tooth Care & Founder of Faciomaxillary Research and Development Hub (FRDH) \n 
URL:https://dandelionzbd.com/event/age-appropriate-strategies-for-optimal-oral-hygiene/
LOCATION:Dandelionz\, 50\,11A\,Dhanmondi R/A\, Dhaka\, Dhaka\, 1205\, Bangladesh
CATEGORIES:Empowering parents​
ORGANIZER;CN="Dandelionz":MAILTO:info@dandelionzbd.com
END:VEVENT
END:VCALENDAR