BEGIN:VCALENDAR
VERSION:2.0
PRODID:-//Dandelionz - ECPv6.15.20//NONSGML v1.0//EN
CALSCALE:GREGORIAN
METHOD:PUBLISH
X-WR-CALNAME:Dandelionz
X-ORIGINAL-URL:https://dandelionzbd.com
X-WR-CALDESC:Events for Dandelionz
REFRESH-INTERVAL;VALUE=DURATION:PT1H
X-Robots-Tag:noindex
X-PUBLISHED-TTL:PT1H
BEGIN:VTIMEZONE
TZID:Asia/Dhaka
BEGIN:STANDARD
TZOFFSETFROM:+0600
TZOFFSETTO:+0600
TZNAME:+06
DTSTART:20230101T000000
END:STANDARD
END:VTIMEZONE
BEGIN:VEVENT
DTSTART;TZID=Asia/Dhaka:20240928T100000
DTEND;TZID=Asia/Dhaka:20240928T120000
DTSTAMP:20260421T204442
CREATED:20250818T051733Z
LAST-MODIFIED:20250818T051850Z
UID:4060-1727517600-1727524800@dandelionzbd.com
SUMMARY:Art Therapy for Adults
DESCRIPTION:We know that happy adults make for happy families. That’s why Dandelionz in collaboration with Diti Roy is hosting an Art Therapy session just for YOU!
URL:https://dandelionzbd.com/event/art-therapy-for-adults/
LOCATION:Dandelionz\, 50\,11A\,Dhanmondi R/A\, Dhaka\, Dhaka\, 1205\, Bangladesh
CATEGORIES:Empowering parents​
ATTACH;FMTTYPE=image/jpeg:https://dandelionzbd.com/wp-content/uploads/2025/08/Art-Therapy-for-Adults.jpg
ORGANIZER;CN="Dandelionz":MAILTO:info@dandelionzbd.com
END:VEVENT
END:VCALENDAR