BEGIN:VCALENDAR
VERSION:2.0
PRODID:-//Dandelionz - ECPv6.15.20//NONSGML v1.0//EN
CALSCALE:GREGORIAN
METHOD:PUBLISH
X-WR-CALNAME:Dandelionz
X-ORIGINAL-URL:https://dandelionzbd.com
X-WR-CALDESC:Events for Dandelionz
REFRESH-INTERVAL;VALUE=DURATION:PT1H
X-Robots-Tag:noindex
X-PUBLISHED-TTL:PT1H
BEGIN:VTIMEZONE
TZID:Asia/Dhaka
BEGIN:STANDARD
TZOFFSETFROM:+0600
TZOFFSETTO:+0600
TZNAME:+06
DTSTART:20230101T000000
END:STANDARD
END:VTIMEZONE
BEGIN:VEVENT
DTSTART;TZID=Asia/Dhaka:20241223T100000
DTEND;TZID=Asia/Dhaka:20241223T170000
DTSTAMP:20260421T185907
CREATED:20250818T053344Z
LAST-MODIFIED:20250818T053344Z
UID:4070-1734948000-1734973200@dandelionzbd.com
SUMMARY:Creating Patriots
DESCRIPTION:Empower your child to be the changemaker Bangladesh needs! Join Dandelionz for a day of learning\, fun\, and action to make a difference. Learn the skills to become a leader\, journalist\, athlete\, and changemaker!
URL:https://dandelionzbd.com/event/creating-patriots-2/
LOCATION:Dandelionz\, 50\,11A\,Dhanmondi R/A\, Dhaka\, Dhaka\, 1205\, Bangladesh
CATEGORIES:Summer Camp
ORGANIZER;CN="Dandelionz":MAILTO:info@dandelionzbd.com
END:VEVENT
END:VCALENDAR