BEGIN:VCALENDAR
VERSION:2.0
PRODID:-//Dandelionz - ECPv6.15.20//NONSGML v1.0//EN
CALSCALE:GREGORIAN
METHOD:PUBLISH
X-WR-CALNAME:Dandelionz
X-ORIGINAL-URL:https://dandelionzbd.com
X-WR-CALDESC:Events for Dandelionz
REFRESH-INTERVAL;VALUE=DURATION:PT1H
X-Robots-Tag:noindex
X-PUBLISHED-TTL:PT1H
BEGIN:VTIMEZONE
TZID:Asia/Dhaka
BEGIN:STANDARD
TZOFFSETFROM:+0600
TZOFFSETTO:+0600
TZNAME:+06
DTSTART:20230101T000000
END:STANDARD
END:VTIMEZONE
BEGIN:VEVENT
DTSTART;TZID=Asia/Dhaka:20240707T170000
DTEND;TZID=Asia/Dhaka:20240707T193000
DTSTAMP:20260421T190206
CREATED:20250806T024752Z
LAST-MODIFIED:20250818T053342Z
UID:3133-1720371600-1720380600@dandelionzbd.com
SUMMARY:Family Game Day
DESCRIPTION:Ditch the screens and join us for a fun-filled evening of board games at Dandelionz facilitated by Playground Inc ! Tired of the same old eating out-and-a-movie routine? Looking for a way to connect with your kids and other families? We’ve got you covered!
URL:https://dandelionzbd.com/event/family-game-day/
LOCATION:Dandelionz\, 50\,11A\,Dhanmondi R/A\, Dhaka\, Dhaka\, 1205\, Bangladesh
CATEGORIES:Summer Camp
ORGANIZER;CN="Dandelionz":MAILTO:info@dandelionzbd.com
END:VEVENT
END:VCALENDAR