BEGIN:VCALENDAR
VERSION:2.0
PRODID:-//Dandelionz - ECPv6.15.20//NONSGML v1.0//EN
CALSCALE:GREGORIAN
METHOD:PUBLISH
X-WR-CALNAME:Dandelionz
X-ORIGINAL-URL:https://dandelionzbd.com
X-WR-CALDESC:Events for Dandelionz
REFRESH-INTERVAL;VALUE=DURATION:PT1H
X-Robots-Tag:noindex
X-PUBLISHED-TTL:PT1H
BEGIN:VTIMEZONE
TZID:Asia/Dhaka
BEGIN:STANDARD
TZOFFSETFROM:+0600
TZOFFSETTO:+0600
TZNAME:+06
DTSTART:20230101T000000
END:STANDARD
END:VTIMEZONE
BEGIN:VEVENT
DTSTART;TZID=Asia/Dhaka:20240707T120000
DTEND;TZID=Asia/Dhaka:20240720T140000
DTSTAMP:20260421T185818
CREATED:20250806T024752Z
LAST-MODIFIED:20250818T053341Z
UID:3132-1720353600-1721484000@dandelionzbd.com
SUMMARY:Robotics camp
DESCRIPTION:“Gear up for an exciting adventure into the world of robotics! At Dandelionz’s Kids Robotics Camp\, children will learn to build\, program\, and bring their own creations to life. Through hands-on activities\, teamwork\, and problem-solving challenges\, they’ll spark curiosity\, boost critical thinking\, and discover how fun STEM can be!”
URL:https://dandelionzbd.com/event/robotics-camp/
LOCATION:Dandelionz\, 50\,11A\,Dhanmondi R/A\, Dhaka\, Dhaka\, 1205\, Bangladesh
CATEGORIES:Summer Camp
ORGANIZER;CN="Dandelionz":MAILTO:info@dandelionzbd.com
END:VEVENT
END:VCALENDAR