BEGIN:VCALENDAR
VERSION:2.0
PRODID:-//Dandelionz - ECPv6.15.20//NONSGML v1.0//EN
CALSCALE:GREGORIAN
METHOD:PUBLISH
X-WR-CALNAME:Dandelionz
X-ORIGINAL-URL:https://dandelionzbd.com
X-WR-CALDESC:Events for Dandelionz
REFRESH-INTERVAL;VALUE=DURATION:PT1H
X-Robots-Tag:noindex
X-PUBLISHED-TTL:PT1H
BEGIN:VTIMEZONE
TZID:Asia/Dhaka
BEGIN:STANDARD
TZOFFSETFROM:+0600
TZOFFSETTO:+0600
TZNAME:+06
DTSTART:20240101T000000
END:STANDARD
END:VTIMEZONE
BEGIN:VEVENT
DTSTART;TZID=Asia/Dhaka:20250629T100000
DTEND;TZID=Asia/Dhaka:20250703T140000
DTSTAMP:20260421T152431
CREATED:20250818T053335Z
LAST-MODIFIED:20250818T053335Z
UID:4065-1751191200-1751551200@dandelionzbd.com
SUMMARY:Summer camp 2025
DESCRIPTION:Summer just got brighter! 🌞 Join Dandelionz’s Summer Camp where curious minds and busy hands come alive. From splashy water days to crafty creations\, games\, and giggles — every moment is packed with fun\, friends\, and unforgettable memories!
URL:https://dandelionzbd.com/event/summer-camp-2025-2/
LOCATION:Dandelionz\, 50\,11A\,Dhanmondi R/A\, Dhaka\, Dhaka\, 1205\, Bangladesh
CATEGORIES:Summer Camp
ORGANIZER;CN="Dandelionz":MAILTO:info@dandelionzbd.com
END:VEVENT
END:VCALENDAR