BEGIN:VCALENDAR
VERSION:2.0
PRODID:-//Dandelionz - ECPv6.15.20//NONSGML v1.0//EN
CALSCALE:GREGORIAN
METHOD:PUBLISH
X-WR-CALNAME:Dandelionz
X-ORIGINAL-URL:https://dandelionzbd.com
X-WR-CALDESC:Events for Dandelionz
REFRESH-INTERVAL;VALUE=DURATION:PT1H
X-Robots-Tag:noindex
X-PUBLISHED-TTL:PT1H
BEGIN:VTIMEZONE
TZID:Asia/Dhaka
BEGIN:STANDARD
TZOFFSETFROM:+0600
TZOFFSETTO:+0600
TZNAME:+06
DTSTART:20240101T000000
END:STANDARD
END:VTIMEZONE
BEGIN:VEVENT
DTSTART;TZID=Asia/Dhaka:20250630T100000
DTEND;TZID=Asia/Dhaka:20250704T140000
DTSTAMP:20260421T190016
CREATED:20250818T053336Z
LAST-MODIFIED:20250818T053336Z
UID:4066-1751277600-1751637600@dandelionzbd.com
SUMMARY:Summer camp 3
DESCRIPTION:Get ready for the ultimate summer escape! 🌈 At Dandelionz’s Summer Camp\, every day is a new adventure — from art explosions and science fun to outdoor games and surprise theme days. Your kids will laugh louder\, play harder\, and come home with stories you’ll hear about all year long!
URL:https://dandelionzbd.com/event/summer-camp-3-2/
LOCATION:Dandelionz\, 50\,11A\,Dhanmondi R/A\, Dhaka\, Dhaka\, 1205\, Bangladesh
CATEGORIES:Summer Camp
ORGANIZER;CN="Dandelionz":MAILTO:info@dandelionzbd.com
END:VEVENT
END:VCALENDAR