BEGIN:VCALENDAR
VERSION:2.0
PRODID:-//Dandelionz - ECPv6.15.20//NONSGML v1.0//EN
CALSCALE:GREGORIAN
METHOD:PUBLISH
X-ORIGINAL-URL:https://dandelionzbd.com
X-WR-CALDESC:Events for Dandelionz
REFRESH-INTERVAL;VALUE=DURATION:PT1H
X-Robots-Tag:noindex
X-PUBLISHED-TTL:PT1H
BEGIN:VTIMEZONE
TZID:Asia/Dhaka
BEGIN:STANDARD
TZOFFSETFROM:+0600
TZOFFSETTO:+0600
TZNAME:+06
DTSTART:20220101T000000
END:STANDARD
END:VTIMEZONE
BEGIN:VEVENT
DTSTART;TZID=Asia/Dhaka:20240210T153000
DTEND;TZID=Asia/Dhaka:20240210T173000
DTSTAMP:20260421T220313
CREATED:20250723T122532Z
LAST-MODIFIED:20250818T044103Z
UID:2455-1707579000-1707586200@dandelionzbd.com
SUMMARY:Age-Appropriate strategies for optimal oral hygiene
DESCRIPTION:Speakers:  \nDr. Mausumi Iqbal \nConsultant in Tooth Care & Founder of Faciomaxillary Research and Development Hub (FRDH) \n 
URL:https://dandelionzbd.com/event/age-appropriate-strategies-for-optimal-oral-hygiene/
LOCATION:Dandelionz\, 50\,11A\,Dhanmondi R/A\, Dhaka\, Dhaka\, 1205\, Bangladesh
CATEGORIES:Empowering parents​
ORGANIZER;CN="Dandelionz":MAILTO:info@dandelionzbd.com
END:VEVENT
BEGIN:VEVENT
DTSTART;TZID=Asia/Dhaka:20240103T100000
DTEND;TZID=Asia/Dhaka:20240302T170000
DTSTAMP:20260421T220313
CREATED:20250806T024753Z
LAST-MODIFIED:20250818T053343Z
UID:3134-1704276000-1709398800@dandelionzbd.com
SUMMARY:Junior Filmmakers
DESCRIPTION:Do you love movies? Want to learn how to make one? Join us!!
URL:https://dandelionzbd.com/event/junior-filmmakers/
LOCATION:Dandelionz\, 50\,11A\,Dhanmondi R/A\, Dhaka\, Dhaka\, 1205\, Bangladesh
CATEGORIES:Summer Camp
ORGANIZER;CN="Dandelionz":MAILTO:info@dandelionzbd.com
END:VEVENT
BEGIN:VEVENT
DTSTART;TZID=Asia/Dhaka:20230726T170000
DTEND;TZID=Asia/Dhaka:20230726T200000
DTSTAMP:20260421T220313
CREATED:20250723T072344Z
LAST-MODIFIED:20250807T061118Z
UID:1270-1690390800-1690401600@dandelionzbd.com
SUMMARY:Common behavioral problems parent face while raising their child and Nutritional requirements at different stages of growth.
DESCRIPTION:Speakers:                 \n\nDr Samina Haque (Child & Adolescent psychiatrist\, consultant in Bangladesh Psychiatric Care.) \n \nChowdhury Tasneem Hasin (Chief Dietician and Head of Dietetics and Nutrition Department\, United Hospital Limited)
URL:https://dandelionzbd.com/event/common-behavioral-problems-parent-face-while-raising-their-child-and-nutritional-requirements-at-different-stages-of-growth/
LOCATION:Dandelionz\, 50\,11A\,Dhanmondi R/A\, Dhaka\, Dhaka\, 1205\, Bangladesh
CATEGORIES:Empowering parents​
ORGANIZER;CN="Dandelionz":MAILTO:info@dandelionzbd.com
END:VEVENT
BEGIN:VEVENT
DTSTART;TZID=Asia/Dhaka:20230513T110000
DTEND;TZID=Asia/Dhaka:20230513T110000
DTSTAMP:20260421T220313
CREATED:20250818T051734Z
LAST-MODIFIED:20250818T051734Z
UID:4061-1683975600-1683975600@dandelionzbd.com
SUMMARY:Bond over Art
DESCRIPTION:Mothers are always busy with getting everything right for their child. To celebrate Mother’s day\, set back and spending a relaxing and fun time with your child….just draw\, paint & color and importantly create a magical bond
URL:https://dandelionzbd.com/event/bond-over-art/
LOCATION:Dandelionz\, 50\,11A\,Dhanmondi R/A\, Dhaka\, Dhaka\, 1205\, Bangladesh
CATEGORIES:Empowering parents​
ATTACH;FMTTYPE=image/jpeg:https://dandelionzbd.com/wp-content/uploads/2025/08/Art-Therapy-for-Adults.jpg
ORGANIZER;CN="Dandelionz":MAILTO:info@dandelionzbd.com
END:VEVENT
BEGIN:VEVENT
DTSTART;TZID=Asia/Dhaka:20230318T170000
DTEND;TZID=Asia/Dhaka:20230318T190000
DTSTAMP:20260421T220313
CREATED:20250818T051732Z
LAST-MODIFIED:20250818T051732Z
UID:4059-1679158800-1679166000@dandelionzbd.com
SUMMARY:Meet and Greet
DESCRIPTION:It’s our pleasure to invite you all to a session by Chowdhury Tasneem Hasin (Clinical Dietician & Nutritionist) & Dr. Samina Haque (Specialist in Child and Adolescent Psychiatry)
URL:https://dandelionzbd.com/event/meet-and-greet/
LOCATION:Dandelionz\, 50\,11A\,Dhanmondi R/A\, Dhaka\, Dhaka\, 1205\, Bangladesh
CATEGORIES:Empowering parents​
ATTACH;FMTTYPE=image/jpeg:https://dandelionzbd.com/wp-content/uploads/2025/08/meet-and-greet.jpg
ORGANIZER;CN="Dandelionz":MAILTO:info@dandelionzbd.com
END:VEVENT
END:VCALENDAR